BEGIN:VCALENDAR
VERSION:2.0
PRODID:-//NG Clearing Limited - ECPv6.15.17.1//NONSGML v1.0//EN
CALSCALE:GREGORIAN
METHOD:PUBLISH
X-WR-CALNAME:NG Clearing Limited
X-ORIGINAL-URL:https://www.ngclearing.com
X-WR-CALDESC:Events for NG Clearing Limited
REFRESH-INTERVAL;VALUE=DURATION:PT1H
X-Robots-Tag:noindex
X-PUBLISHED-TTL:PT1H
BEGIN:VTIMEZONE
TZID:Africa/Lagos
BEGIN:STANDARD
TZOFFSETFROM:+0100
TZOFFSETTO:+0100
TZNAME:WAT
DTSTART:20200101T000000
END:STANDARD
END:VTIMEZONE
BEGIN:VEVENT
DTSTART;TZID=Africa/Lagos:20220412T140000
DTEND;TZID=Africa/Lagos:20220412T150000
DTSTAMP:20260421T112753
CREATED:20220408T140753Z
LAST-MODIFIED:20220408T141038Z
UID:10160-1649772000-1649775600@www.ngclearing.com
SUMMARY:Fundamentals of derivatives clearing and settlement
DESCRIPTION:
URL:https://www.ngclearing.com/event/fundamentals-of-derivatives-clearing-and-settlement/
LOCATION:Zoom Meeting
ATTACH;FMTTYPE=image/jpeg:https://www.ngclearing.com/wp-content/uploads/2022/04/NGCL-NGX-date-corrected.jpg
END:VEVENT
BEGIN:VEVENT
DTSTART;TZID=Africa/Lagos:20211209T130000
DTEND;TZID=Africa/Lagos:20211209T150000
DTSTAMP:20260421T112753
CREATED:20211101T160606Z
LAST-MODIFIED:20211202T114150Z
UID:9759-1639054800-1639062000@www.ngclearing.com
SUMMARY:Grand Launch of NG Clearing as Nigeria's Premier Central Counterparty
DESCRIPTION:Register for Event
URL:https://www.ngclearing.com/event/grand-launch-of-ng-clearing-as-nigerias-premier-central-counterparty/
ATTACH;FMTTYPE=image/jpeg:https://www.ngclearing.com/wp-content/uploads/2021/11/NGCL-Grand-launch-Registration-Page-Banner.jpg
END:VEVENT
END:VCALENDAR